BEGIN:VCALENDAR
VERSION:2.0
PRODID:icalendar-ruby
CALSCALE:GREGORIAN
METHOD:PUBLISH
BEGIN:VEVENT
DTSTAMP:20260425T040124Z
UID:43-411476@copperfieldbible.tithelysetup5.com
DTSTART:20260426T154000Z
DTEND:20260426T173000Z
CLASS:PUBLIC
CREATED:20260424T194406
DESCRIPTION:WORSHIP SERVICE\nWelcome\nCall to Worship\nHebrews 12:28-29\n 
 Opening Prayer\n Christ Our Hope in Life and Death\nAll Glory Be to Chris
 t (#133 Black)\n Opportunities\nOffertory\nPrayer\n Scripture Reading\nE
 phesians 4:1-16\nCarlos Perez\n My Jesus\, I Love Thee (#380 Black)\n Se
 rmon\nChrist’s Redemptive Project: the Church\nDan Phillips\n Take My L
 ife and Let It Be (393 Black) \nVerses 1\, 4\, 5 &amp\; 6\n Benediction
LAST-MODIFIED:20260424T194406
LOCATION:
SUMMARY:Sunday Worship
URL;VALUE=URI:https://cbctex.org/events/sunday-worship--43/2026-04-26
ATTACH;FILENAME=bible_crosses-01.jpg;FMTTYPE=image/jpeg:https://dq5pwpg1q8r
 u0.cloudfront.net/2023/04/24/11/52/58/fd8b4689-bd56-4598-b20a-561c8dafa0cb
 /bible_crosses-01.jpg
ATTACH;FILENAME=6 Christ's Redemptive Project the Church outline.pdf;FMTTYP
 E=application/pdf:https://dq5pwpg1q8ru0.cloudfront.net/2026/04/25/00/44/06
 /73c8a4b5-371c-4633-a314-5d140a398aaf/6%20Christ's%20Redemptive%20Project%
 20the%20Church%20outline.pdf
END:VEVENT
END:VCALENDAR
